BEGIN:VCALENDAR
VERSION:2.0
PRODID:-//Wimbledon Park Bowls Club - ECPv3.10.1//NONSGML v1.0//EN
CALSCALE:GREGORIAN
METHOD:PUBLISH
X-WR-CALNAME:Wimbledon Park Bowls Club
X-ORIGINAL-URL:http://www.wimbledonparkbowlsclub.co.uk
X-WR-CALDESC:Events for Wimbledon Park Bowls Club
BEGIN:VEVENT
DTSTART:20260418T133000Z
DTEND:20260418T173000Z
DTSTAMP:20260422T140608Z
CREATED:20260128T200145Z
LAST-MODIFIED:20260128T200145Z
UID:6548-1776519000-1776533400@www.wimbledonparkbowlsclub.co.uk
SUMMARY:Bowls Party
DESCRIPTION:Bowls Party 18.4.26 1.30 - 5.30pm Charlotte
URL:http://www.wimbledonparkbowlsclub.co.uk/event/bowls-party-110/
LOCATION:Revelstoke Road\, London\, SW19 7HX\, United Kingdom
END:VEVENT
END:VCALENDAR