BEGIN:VCALENDAR
VERSION:2.0
PRODID:-//Wimbledon Park Bowls Club - ECPv3.10.1//NONSGML v1.0//EN
CALSCALE:GREGORIAN
METHOD:PUBLISH
X-WR-CALNAME:Wimbledon Park Bowls Club
X-ORIGINAL-URL:http://www.wimbledonparkbowlsclub.co.uk
X-WR-CALDESC:Events for Wimbledon Park Bowls Club
BEGIN:VEVENT
DTSTART:20260509T140000Z
DTEND:20260509T180000Z
DTSTAMP:20260422T154550Z
CREATED:20260421T084008Z
LAST-MODIFIED:20260421T084009Z
UID:6585-1778335200-1778349600@www.wimbledonparkbowlsclub.co.uk
SUMMARY:Bowls Party
DESCRIPTION:Bowls Party\n2.00pm - 6.00pm\nCydney
URL:http://www.wimbledonparkbowlsclub.co.uk/event/bowls-party-114/
LOCATION:Revelstoke Road\, London\, SW19 7HX\, United Kingdom
END:VEVENT
END:VCALENDAR