BEGIN:VCALENDAR
VERSION:2.0
PRODID:-//Wimbledon Park Bowls Club - ECPv3.10.1//NONSGML v1.0//EN
CALSCALE:GREGORIAN
METHOD:PUBLISH
X-WR-CALNAME:Wimbledon Park Bowls Club
X-ORIGINAL-URL:http://www.wimbledonparkbowlsclub.co.uk
X-WR-CALDESC:Events for Wimbledon Park Bowls Club
BEGIN:VEVENT
DTSTART:20260516T133000Z
DTEND:20260516T173000Z
DTSTAMP:20260422T153758Z
CREATED:20260420T122042Z
LAST-MODIFIED:20260420T122042Z
UID:6584-1778938200-1778952600@www.wimbledonparkbowlsclub.co.uk
SUMMARY:Bowls Party
DESCRIPTION:Bowls Party 1.30pm - 5.30pm Andrew
URL:http://www.wimbledonparkbowlsclub.co.uk/event/bowls-party-113/
LOCATION:Revelstoke Road\, London\, SW19 7HX\, United Kingdom
END:VEVENT
END:VCALENDAR