BEGIN:VCALENDAR
VERSION:2.0
PRODID:-//Wimbledon Park Bowls Club - ECPv3.10.1//NONSGML v1.0//EN
CALSCALE:GREGORIAN
METHOD:PUBLISH
X-WR-CALNAME:Wimbledon Park Bowls Club
X-ORIGINAL-URL:http://www.wimbledonparkbowlsclub.co.uk
X-WR-CALDESC:Events for Wimbledon Park Bowls Club
BEGIN:VEVENT
DTSTART:20260526T140000Z
DTEND:20260526T160000Z
DTSTAMP:20260422T154529Z
CREATED:20260405T123554Z
LAST-MODIFIED:20260405T123554Z
UID:6555-1779804000-1779811200@www.wimbledonparkbowlsclub.co.uk
SUMMARY:Tuesday Afternoon League
DESCRIPTION:Fun\, friendly afternoon league each Tuesday from 2 - 4 pm. Please be at the green for 1.45 pm.
URL:http://www.wimbledonparkbowlsclub.co.uk/event/tuesday-afternoon-league-29/
LOCATION:Revelstoke Road\, London\, SW19 7HX\, United Kingdom
END:VEVENT
END:VCALENDAR