BEGIN:VCALENDAR
VERSION:2.0
PRODID:-//Wimbledon Park Bowls Club - ECPv3.10.1//NONSGML v1.0//EN
CALSCALE:GREGORIAN
METHOD:PUBLISH
X-WR-CALNAME:Wimbledon Park Bowls Club
X-ORIGINAL-URL:http://www.wimbledonparkbowlsclub.co.uk
X-WR-CALDESC:Events for Wimbledon Park Bowls Club
BEGIN:VEVENT
DTSTART:20260606T133000Z
DTEND:20260606T180000Z
DTSTAMP:20260422T172602Z
CREATED:20260311T120245Z
LAST-MODIFIED:20260311T120247Z
UID:6549-1780752600-1780768800@www.wimbledonparkbowlsclub.co.uk
SUMMARY:Bowls Party
DESCRIPTION:Bowls Party1.30pm - 6pmSophia
URL:http://www.wimbledonparkbowlsclub.co.uk/event/bowls-party-111/
LOCATION:Revelstoke Road\, London\, SW19 7HX\, United Kingdom
END:VEVENT
END:VCALENDAR