BEGIN:VCALENDAR
VERSION:2.0
PRODID:-//Wimbledon Park Bowls Club - ECPv3.10.1//NONSGML v1.0//EN
CALSCALE:GREGORIAN
METHOD:PUBLISH
X-WR-CALNAME:Wimbledon Park Bowls Club
X-ORIGINAL-URL:http://www.wimbledonparkbowlsclub.co.uk
X-WR-CALDESC:Events for Wimbledon Park Bowls Club
BEGIN:VEVENT
DTSTART:20260618T120000Z
DTEND:20260618T173000Z
DTSTAMP:20260422T172637Z
CREATED:20260408T124006Z
LAST-MODIFIED:20260408T124006Z
UID:6581-1781784000-1781803800@www.wimbledonparkbowlsclub.co.uk
SUMMARY:Bowls Party
DESCRIPTION:Bowls Party 12.00 - 5.30pm Joel
URL:http://www.wimbledonparkbowlsclub.co.uk/event/bowls-party-112/
LOCATION:Revelstoke Road\, London\, SW19 7HX\, United Kingdom
END:VEVENT
END:VCALENDAR