BEGIN:VCALENDAR
VERSION:2.0
PRODID:-//Wimbledon Park Bowls Club - ECPv3.10.1//NONSGML v1.0//EN
CALSCALE:GREGORIAN
METHOD:PUBLISH
X-WR-CALNAME:Wimbledon Park Bowls Club
X-ORIGINAL-URL:http://www.wimbledonparkbowlsclub.co.uk
X-WR-CALDESC:Events for Wimbledon Park Bowls Club
BEGIN:VEVENT
DTSTART:20260915T140000Z
DTEND:20260915T160000Z
DTSTAMP:20260422T221409Z
CREATED:20260405T130106Z
LAST-MODIFIED:20260405T130106Z
UID:6572-1789480800-1789488000@www.wimbledonparkbowlsclub.co.uk
SUMMARY:Tuesday Afternoon League
DESCRIPTION:Fun\, friendly afternoon league each Tuesday from 2 - 4 pm. Please be at the green for 1.45 pm.
URL:http://www.wimbledonparkbowlsclub.co.uk/event/tuesday-afternoon-league-46/
LOCATION:Revelstoke Road\, London\, SW19 7HX\, United Kingdom
END:VEVENT
END:VCALENDAR